BEGIN:VCALENDAR
VERSION:2.0
PRODID:-//hacksw/handcal//NONSGML v1.0//EN
CALSCALE:GREGORIAN
BEGIN:VEVENT
DTSTART:20260529T000000Z
DTEND:20260529T000000Z
SUMMARY:Fête des voisins 2026 : déclarez votre événement !
URL;VALUE=URI:https://www.ville-antony.fr/evenements/fete-des-voisins
DTSTAMP:19700101T010000Z
UID:69e80d103db51
END:VEVENT
END:VCALENDAR