BEGIN:VCALENDAR
VERSION:2.0
PRODID:-//hacksw/handcal//NONSGML v1.0//EN
CALSCALE:GREGORIAN
BEGIN:VEVENT
DTSTART:20260527T000000Z
DTEND:20260530T000000Z
SUMMARY:Festival de BD : Des bulles dans la ville « Mondes imaginaires »
URL;VALUE=URI:https://www.ville-antony.fr/evenements/festival-des-bulles-dans-la-ville
DTSTAMP:19700101T010000Z
UID:69ea1e38bc401
END:VEVENT
END:VCALENDAR