BEGIN:VCALENDAR
VERSION:2.0
PRODID:-//hacksw/handcal//NONSGML v1.0//EN
CALSCALE:GREGORIAN
BEGIN:VEVENT
DTSTART:20260531T000000Z
DTEND:20260531T000000Z
SUMMARY:Troc de plantes
URL;VALUE=URI:https://www.ville-antony.fr/evenements/troc-de-plantes-2
DTSTAMP:19700101T010000Z
UID:69e6355b6b2ef
END:VEVENT
END:VCALENDAR