BEGIN:VCALENDAR
VERSION:2.0
PRODID:-//hacksw/handcal//NONSGML v1.0//EN
CALSCALE:GREGORIAN
BEGIN:VEVENT
DTSTART:20260426T000000Z
DTEND:20260426T000000Z
SUMMARY:Journée nationale de la Déportation : cérémonie commémorative à Antony
URL;VALUE=URI:https://www.ville-antony.fr/evenements/journee-nationale-de-la-deportation-ceremonie-commemorative-a-antony
DTSTAMP:19700101T010000Z
UID:69eb625f618b7
END:VEVENT
END:VCALENDAR